BEGIN:VCALENDAR
VERSION:2.0
PRODID:-//PCC A GCG Company - WI Siemens Distributor - ECPv6.15.17.1//NONSGML v1.0//EN
CALSCALE:GREGORIAN
METHOD:PUBLISH
X-ORIGINAL-URL:https://www.pccweb.com
X-WR-CALDESC:Events for PCC A GCG Company - WI Siemens Distributor
REFRESH-INTERVAL;VALUE=DURATION:PT1H
X-Robots-Tag:noindex
X-PUBLISHED-TTL:PT1H
BEGIN:VTIMEZONE
TZID:America/Chicago
BEGIN:DAYLIGHT
TZOFFSETFROM:-0600
TZOFFSETTO:-0500
TZNAME:CDT
DTSTART:20190310T080000
END:DAYLIGHT
BEGIN:STANDARD
TZOFFSETFROM:-0500
TZOFFSETTO:-0600
TZNAME:CST
DTSTART:20191103T070000
END:STANDARD
BEGIN:DAYLIGHT
TZOFFSETFROM:-0600
TZOFFSETTO:-0500
TZNAME:CDT
DTSTART:20200308T080000
END:DAYLIGHT
BEGIN:STANDARD
TZOFFSETFROM:-0500
TZOFFSETTO:-0600
TZNAME:CST
DTSTART:20201101T070000
END:STANDARD
BEGIN:DAYLIGHT
TZOFFSETFROM:-0600
TZOFFSETTO:-0500
TZNAME:CDT
DTSTART:20210314T080000
END:DAYLIGHT
BEGIN:STANDARD
TZOFFSETFROM:-0500
TZOFFSETTO:-0600
TZNAME:CST
DTSTART:20211107T070000
END:STANDARD
BEGIN:DAYLIGHT
TZOFFSETFROM:-0600
TZOFFSETTO:-0500
TZNAME:CDT
DTSTART:20220313T080000
END:DAYLIGHT
BEGIN:STANDARD
TZOFFSETFROM:-0500
TZOFFSETTO:-0600
TZNAME:CST
DTSTART:20221106T070000
END:STANDARD
BEGIN:DAYLIGHT
TZOFFSETFROM:-0600
TZOFFSETTO:-0500
TZNAME:CDT
DTSTART:20230312T080000
END:DAYLIGHT
BEGIN:STANDARD
TZOFFSETFROM:-0500
TZOFFSETTO:-0600
TZNAME:CST
DTSTART:20231105T070000
END:STANDARD
END:VTIMEZONE
BEGIN:VEVENT
DTSTART;TZID=America/Chicago:20220201T100000
DTEND;TZID=America/Chicago:20220201T110000
DTSTAMP:20260423T061225
CREATED:20211202T195355Z
LAST-MODIFIED:20211202T195355Z
UID:10000293-1643709600-1643713200@www.pccweb.com
SUMMARY:Introduction SIMATIC ET 200SP2 Open Controller Webinar
DESCRIPTION:Description\n		 \n		\n			Register \n		\n		 \n		\n			\n				\n					\n			This webinar will introduce you to the SIMATIC ET 200SP Open Controller\, the first controller of this type to combine the functions of a PC-based software controller with visualization\, PC applications and central I/O in a compact device. \nThe device arrives with pre-configured SIMATIC S7-1500 Software Controller that is operated independently of Windows and ensures high system availability. Visualization can be carried out with WinCC Advanced Runtime. Enhanced functionality is available with the ability to run off the shelf PC Windows applications or custom written S7-1500 C/C++ ODK applications. Highly flexible ET200SP IO is used for the local IO. \nThe SIMATIC ET 200SP2 Open Controller CPU 1515 SP PC2 is available in the following CPU versions \n• Standard \n• Fail-safe for safety applications \n• Technology for motion control applications \n• Technology and Fail-safe \nDuration: 45 minutes \n		 \n		\n			\n\n                \n                        \n                             \n                         \n \n                        Attendee InfoName*\n                            \n                            \n                                                    \n                                                    First\n                                                \n                            \n                            \n                                                    \n                                                    Last\n                                                \n                            \n                        Company*Phone*Email*\n                            \n                        \n          \n            \n            \n            \n            \n            \n            \n            \n            \n            \n            \n            \n            \n            \n        \n                        Δ
URL:https://www.pccweb.com/event/introduction-simatic-et-200sp2-open-controller-webinar-2/
LOCATION:Webinar\, WI\, United States
CATEGORIES:Free TechEd,Webinar
ORGANIZER;CN="PCC":MAILTO:training@pccweb.com
END:VEVENT
BEGIN:VEVENT
DTSTART;TZID=America/Chicago:20220120T100000
DTEND;TZID=America/Chicago:20220120T110000
DTSTAMP:20260423T061225
CREATED:20211202T195111Z
LAST-MODIFIED:20211202T195256Z
UID:10000292-1642672800-1642676400@www.pccweb.com
SUMMARY:Introduction SIMATIC ET 200SP2 Open Controller Webinar
DESCRIPTION:Description\n		 \n		\n			Register \n		\n		 \n		\n			\n				\n					\n			This webinar will introduce you to the SIMATIC ET 200SP Open Controller\, the first controller of this type to combine the functions of a PC-based software controller with visualization\, PC applications and central I/O in a compact device. \nThe device arrives with pre-configured SIMATIC S7-1500 Software Controller that is operated independently of Windows and ensures high system availability. Visualization can be carried out with WinCC Advanced Runtime. Enhanced functionality is available with the ability to run off the shelf PC Windows applications or custom written S7-1500 C/C++ ODK applications. Highly flexible ET200SP IO is used for the local IO. \nThe SIMATIC ET 200SP2 Open Controller CPU 1515 SP PC2 is available in the following CPU versions \n• Standard \n• Fail-safe for safety applications \n• Technology for motion control applications \n• Technology and Fail-safe \nDuration: 45 minutes \n		 \n		\n			\n                        \n                             \n                         \n \n                        Attendee InfoName*\n                            \n                            \n                                                    \n                                                    First\n                                                \n                            \n                            \n                                                    \n                                                    Last\n                                                \n                            \n                        Company*Phone*Email*\n                            \n                        \n          \n            \n            \n            \n            \n            \n            \n            \n            \n            \n            \n            \n            \n            \n        \n                        Δ
URL:https://www.pccweb.com/event/introduction-simatic-et-200sp2-open-controller-webinar/
LOCATION:Webinar\, WI\, United States
CATEGORIES:Free TechEd,Webinar
ORGANIZER;CN="PCC":MAILTO:training@pccweb.com
END:VEVENT
BEGIN:VEVENT
DTSTART;TZID=America/Chicago:20201015T103000
DTEND;TZID=America/Chicago:20201015T113000
DTSTAMP:20260423T061225
CREATED:20200923T183734Z
LAST-MODIFIED:20200923T183734Z
UID:10000252-1602757800-1602761400@www.pccweb.com
SUMMARY:TechEd: SIMATIC S7-1200 Power Hour Webinar
DESCRIPTION:Description\n		 \n		\n			Register \n		\n		 \n		\n			\n				\n					\n			 Spend 1 hour with us reviewing some of the most compelling features of the most powerful micro controller in the world – SIMATIC S7-1200.  \nThe SIMATIC S7-1200 controller family sets the standard for small control systems by sharing some of the advanced features of the SIMATIC S7-1500 advanced controller such as integrated diagnostics with HMI panels\, integrated safety\, motion control\, a built in Web Server and other technology options.  \nThe S7-1200 is a compact space-saving design and utilizes the same TIA Portal software as the S7-1500 and HMI panels which equates simplified selection and parameterization of components\, efficient programming with global libraries\, and common diagnostics significantly reducing engineering time.  \n		 \n		\n			\n                        \n                             \n                         \n \n                        Attendee InfoName*\n                            \n                            \n                                                    \n                                                    First\n                                                \n                            \n                            \n                                                    \n                                                    Last\n                                                \n                            \n                        Company*Phone*Email*\n                            \n                        \n          \n            \n            \n            \n            \n            \n            \n            \n            \n            \n            \n            \n            \n            \n        \n                        Δ
URL:https://www.pccweb.com/event/teched-simatic-s7-1200-power-hour-webinar-2/
LOCATION:Webinar\, WI\, United States
CATEGORIES:Free TechEd,Webinar
ORGANIZER;CN="PCC":MAILTO:training@pccweb.com
END:VEVENT
BEGIN:VEVENT
DTSTART;TZID=America/Chicago:20201008T103000
DTEND;TZID=America/Chicago:20201008T113000
DTSTAMP:20260423T061225
CREATED:20200923T183243Z
LAST-MODIFIED:20200923T183243Z
UID:10000251-1602153000-1602156600@www.pccweb.com
SUMMARY:TechEd: SIMATIC S7-1200 Power Hour Webinar
DESCRIPTION:Description\n		 \n		\n			Register \n		\n		 \n		\n			\n				\n					\n			 Spend 1 hour with us reviewing some of the most compelling features of the most powerful micro controller in the world – SIMATIC S7-1200.  \nThe SIMATIC S7-1200 controller family sets the standard for small control systems by sharing some of the advanced features of the SIMATIC S7-1500 advanced controller such as integrated diagnostics with HMI panels\, integrated safety\, motion control\, a built in Web Server and other technology options.  \nThe S7-1200 is a compact space-saving design and utilizes the same TIA Portal software as the S7-1500 and HMI panels which equates simplified selection and parameterization of components\, efficient programming with global libraries\, and common diagnostics significantly reducing engineering time.  \n		 \n		\n			\n                        \n                             \n                         \n \n                        Attendee InfoName*\n                            \n                            \n                                                    \n                                                    First\n                                                \n                            \n                            \n                                                    \n                                                    Last\n                                                \n                            \n                        Company*Phone*Email*\n                            \n                        \n          \n            \n            \n            \n            \n            \n            \n            \n            \n            \n            \n            \n            \n            \n        \n                        Δ
URL:https://www.pccweb.com/event/teched-simatic-s7-1200-power-hour-webinar/
LOCATION:Webinar\, WI\, United States
CATEGORIES:Free TechEd,Webinar
ORGANIZER;CN="PCC":MAILTO:training@pccweb.com
END:VEVENT
BEGIN:VEVENT
DTSTART;TZID=America/Chicago:20200924T103000
DTEND;TZID=America/Chicago:20200924T113000
DTSTAMP:20260423T061225
CREATED:20200909T180412Z
LAST-MODIFIED:20200909T180635Z
UID:10000249-1600943400-1600947000@www.pccweb.com
SUMMARY:TechEd: Siemens S7-1500 Power Hour Webinar
DESCRIPTION:Description\n		 \n		\n			Register \n		\n		 \n		\n			\n				\n					\n			Spend 1 hour with us reviewing some of the most compelling features of the most powerful controller in the world – SIMATIC S7-1500. \nThe S7-1500 family of controllers\, is a perfect fit for those higher level PLC applications with complete scalability. Downtime is minimized due to powerful\, built in diagnostics\, and complete transparency of these diagnostics on our HMI Panels\, Web Server and User defined web pages\, on the programming PC – AND on the built in CPU color display for simple operator use. The S7-1500 is seamlessly integrated with our HMI and drive products within the TIA Portal – meaning simplified selection and parameterization\, efficient global libraries\, and common diagnostics all within the same application\, thereby dramatically reducing engineering\, commissioning\, and troubleshooting time. \n		 \n		\n			\n                        \n                             \n                         \n \n                        Attendee InfoName*\n                            \n                            \n                                                    \n                                                    First\n                                                \n                            \n                            \n                                                    \n                                                    Last\n                                                \n                            \n                        Company*Phone*Email*\n                            \n                        \n          \n            \n            \n            \n            \n            \n            \n            \n            \n            \n            \n            \n            \n            \n        \n                        Δ
URL:https://www.pccweb.com/event/teched-siemens-s7-1500-power-hour/
LOCATION:Webinar\, WI\, United States
CATEGORIES:Free TechEd,Webinar
ORGANIZER;CN="PCC":MAILTO:training@pccweb.com
END:VEVENT
BEGIN:VEVENT
DTSTART;TZID=America/Chicago:20200923T130000
DTEND;TZID=America/Chicago:20200923T140000
DTSTAMP:20260423T061225
CREATED:20200914T191040Z
LAST-MODIFIED:20200914T192805Z
UID:10000250-1600866000-1600869600@www.pccweb.com
SUMMARY:[Webinar] Most Common Mistakes in Functional Safety and How to Avoid them
DESCRIPTION:Description\n		 \n		\n			Register \n		\n		 \n		\n			\n				\n					\n			 \n  \n  \nFunctional Safety is a widely used\, thorough methodology to reduce risk. But it is not without its misunderstandings. TÜV SÜD has more than 20 years of experience in testing and certifying functional safety related systems and components. During this time its employees have observed recurring issues arising from misunderstandings of some functional safety concepts. Join us on this webinar to better understand these misunderstandings\, how they affect you and how to avoid them. \nBenefits of attending: \n\nLearn how to avoid some common missteps in designing and developing a safety loop\nDevelop a better understanding of some methodologies that are included in the requirements\, but may be more difficult to achieve in practice\nDiscover how some misunderstandings can cause major problems in developing a Functional Safety system ― and how to design it correctly from the beginning\n\nWebinar hosted by: Siemens \n		 \n		\n			Register now >> \nWebinar hosted by: Siemens
URL:https://www.pccweb.com/event/webinar-most-common-mistakes-in-functional-safety-and-how-to-avoid-them/
LOCATION:Webinar\, WI\, United States
END:VEVENT
BEGIN:VEVENT
DTSTART;TZID=America/Chicago:20200917T103000
DTEND;TZID=America/Chicago:20200917T113000
DTSTAMP:20260423T061225
CREATED:20200909T175057Z
LAST-MODIFIED:20200909T175057Z
UID:10000248-1600338600-1600342200@www.pccweb.com
SUMMARY:TechEd: Siemens S7-1500 Power Hour Webinar
DESCRIPTION:Description\n		 \n		\n			Register \n		\n		 \n		\n			\n				\n					\n			Spend 1 hour with us reviewing some of the most compelling features of the most powerful controller in the world – SIMATIC S7-1500. \nThe S7-1500 family of controllers\, is a perfect fit for those higher level PLC applications with complete scalability. Downtime is minimized due to powerful\, built in diagnostics\, and complete transparency of these diagnostics on our HMI Panels\, Web Server and User defined web pages\, on the programming PC – AND on the built in CPU color display for simple operator use. The S7-1500 is seamlessly integrated with our HMI and drive products within the TIA Portal – meaning simplified selection and parameterization\, efficient global libraries\, and common diagnostics all within the same application\, thereby dramatically reducing engineering\, commissioning\, and troubleshooting time. \n		 \n		\n			\n                        \n                             \n                         \n \n                        Attendee InfoName*\n                            \n                            \n                                                    \n                                                    First\n                                                \n                            \n                            \n                                                    \n                                                    Last\n                                                \n                            \n                        Company*Phone*Email*\n                            \n                        \n          \n            \n            \n            \n            \n            \n            \n            \n            \n            \n            \n            \n            \n            \n        \n                        Δ
URL:https://www.pccweb.com/event/teched-s7-1500-power-hour-webinar/
LOCATION:Webinar\, WI\, United States
ORGANIZER;CN="PCC":MAILTO:training@pccweb.com
END:VEVENT
BEGIN:VEVENT
DTSTART;TZID=America/Chicago:20200805T103000
DTEND;TZID=America/Chicago:20200805T233000
DTSTAMP:20260423T061225
CREATED:20200717T164451Z
LAST-MODIFIED:20200717T164451Z
UID:10000247-1596623400-1596670200@www.pccweb.com
SUMMARY:Introduction to TIA Portal WinCC Unified: The Next Generation of Siemens HMI
DESCRIPTION:Description\n		 \n		\n			Register \n		\n		 \n		\n			\n				\n					\n			SIMATIC WinCC Unified is a totally new visualization system that you can use to overcome the challenges of today and take you into the future. Attend this webinar to learn about the new PC Runtime system and Multi-Touch panel hardware platform deployed with WinCC Unified software in TIA Portal V16. \nSiemens WinCC Unified Release Webinar \nKey Topics: \n\nWhat is the driving motivation behind the new direction in Siemens HMI?\nWhat is the WinCC Unified System?\nWhat you need to know now?\nWhat makes it different?\n\nFormat: \n\nBrief PowerPoint Presentation\nLive Demo of WinCC Unified in Action\n\n		 \n		\n			\n                        \n                             \n                         \n \n                        Attendee InfoName*\n                            \n                            \n                                                    \n                                                    First\n                                                \n                            \n                            \n                                                    \n                                                    Last\n                                                \n                            \n                        Company*Phone*Email*\n                            \n                        \n          \n            \n            \n            \n            \n            \n            \n            \n            \n            \n            \n            \n            \n            \n        \n                        Δ
URL:https://www.pccweb.com/event/introduction-to-tia-portal-wincc-unified-aug-5/
LOCATION:Webinar\, WI\, United States
ORGANIZER;CN="PCC":MAILTO:training@pccweb.com
END:VEVENT
BEGIN:VEVENT
DTSTART;TZID=America/Chicago:20200730T103000
DTEND;TZID=America/Chicago:20200730T113000
DTSTAMP:20260423T061225
CREATED:20200717T163009Z
LAST-MODIFIED:20200717T163009Z
UID:10000246-1596105000-1596108600@www.pccweb.com
SUMMARY:Introduction to TIA Portal WinCC Unified: The Next Generation of Siemens HMI
DESCRIPTION:Description\n		 \n		\n			Register \n		\n		 \n		\n			\n				\n					\n			SIMATIC WinCC Unified is a totally new visualization system that you can use to overcome the challenges of today and take you into the future. Attend this webinar to learn about the new PC Runtime system and Multi-Touch panel hardware platform deployed with WinCC Unified software in TIA Portal V16. \nSiemens WinCC Unified Release Webinar \nKey Topics: \n\nWhat is the driving motivation behind the new direction in Siemens HMI?\nWhat is the WinCC Unified System?\nWhat you need to know now?\nWhat makes it different?\n\nFormat: \n\nBrief PowerPoint Presentation\nLive Demo of WinCC Unified in Action\n\n		 \n		\n			\n                        \n                             \n                         \n \n                        Attendee InfoName*\n                            \n                            \n                                                    \n                                                    First\n                                                \n                            \n                            \n                                                    \n                                                    Last\n                                                \n                            \n                        Company*Phone*Email*\n                            \n                        \n          \n            \n            \n            \n            \n            \n            \n            \n            \n            \n            \n            \n            \n            \n        \n                        Δ
URL:https://www.pccweb.com/event/introduction-to-tia-portal-wincc-unified-the-next-generation-of-siemens-hmi-2/
LOCATION:Webinar\, WI\, United States
CATEGORIES:Free TechEd
ORGANIZER;CN="PCC":MAILTO:training@pccweb.com
END:VEVENT
END:VCALENDAR